BEGIN:VCALENDAR
PRODID:NingEventWidget-v1
VERSION:2.0
METHOD:PUBLISH
BEGIN:VTIMEZONE
TZID:America/Anguilla
X-LIC-LOCATION:America/Anguilla
BEGIN:STANDARD
TZOFFSETFROM:-0400
TZOFFSETTO:-0400
TZNAME:AST
DTSTART:19700101T000000
END:STANDARD
END:VTIMEZONE
BEGIN:VEVENT
UID:4439072:Event:193838
DTSTAMP:20260422T185220Z
SUMMARY:Turbomachinery Performance with Pump Curves
DESCRIPTION:Computational fluid dynamics (CFD) is often used in the in
 itial design stages of pump design, analyzing the overall performance 
 and looking for ways in which it can be improved. However, CFD can als
 o be used to communicate how a pump performs in the form of a pump cur
 ve. In this webinar, we will demonstrate how CFD and SimScale can be u
 sed to calculate and create efficiency curves, power curves, and press
 ure head curves.\nNo prior knowledge or software is required to join t
 his webinar. All participants can get access to SimScale with all the 
 required simulation features by creating a Community account on our we
 bsite. If you are unable to attend the live session, we would still en
 courage you to register in order to receive the recording.\nRegister f
 or free: http://ow.ly/X9az50v2UTi\n\nFor more information visit https
 ://rhinofablab.com/events/turbomachinery-performance-with-pump-curves
DTSTART;TZID=America/Anguilla:20190723T170000
DTEND;TZID=America/Anguilla:20190723T180000
CATEGORIES:webinar
LOCATION:Online Event
WEBSITE:http://ow.ly/X9az50v2UTi
URL:http://ow.ly/X9az50v2UTi
CONTACT:
ORGANIZER;CN="Victoria Ribeiro":https://rhinofablab.com/profile/Anasta
 siaChurazova
ATTACH;FMTTYPE="image/jpeg":https://storage.ning.com/topology/rest/1.0
 /file/get/3321601355?profile=original
ATTENDEE;ROLE=REQ-PARTICIPANT;PARTSTAT=ACCEPTED;RSVP=TRUE;CN="Victoria
  Ribeiro":https://rhinofablab.com/profile/AnastasiaChurazova
END:VEVENT
END:VCALENDAR
