BEGIN:VCALENDAR
PRODID:NingEventWidget-v1
VERSION:2.0
METHOD:PUBLISH
BEGIN:VTIMEZONE
TZID:America/Anguilla
X-LIC-LOCATION:America/Anguilla
BEGIN:STANDARD
TZOFFSETFROM:-0400
TZOFFSETTO:-0400
TZNAME:AST
DTSTART:19700101T000000
END:STANDARD
END:VTIMEZONE
BEGIN:VEVENT
UID:4439072:Event:445771
DTSTAMP:20260421T200351Z
SUMMARY:Tendencias y dinámicas BIM en la construcción Desde lo soste
 nible y colaborativo, hasta la eficiencia en la estandarización y ope
 ratividad
DESCRIPTION:\n\nFor more information visit https://rhinofablab.com/eve
 nts/tendencias-y-dinamicas-bim-en-la-construccion-desde-lo-sostenible
DTSTART;TZID=America/Anguilla:20231011T000000
DTEND;TZID=America/Anguilla:20231011T235900
CATEGORIES:conferencia
LOCATION:UPB MEDELLIN
WEBSITE:https://www.upb.edu.co/es/formacion-continua/encuentro-tendenc
 ias-dinamicas-bim
URL:https://www.upb.edu.co/es/formacion-continua/encuentro-tendencias-
 dinamicas-bim
CONTACT:3008114452
ORGANIZER:UPB-RHINO3D COLOMBIA S.A.S.
ATTACH;FMTTYPE="image/jpeg":https://storage.ning.com/topology/rest/1.0
 /file/get/12245110462?profile=original
ATTENDEE;ROLE=REQ-PARTICIPANT;PARTSTAT=ACCEPTED;RSVP=TRUE;CN="Andres F
 ranco":https://rhinofablab.com/profile/AndresFelipeFrancoMoreno
END:VEVENT
END:VCALENDAR
