BEGIN:VCALENDAR
PRODID:NingEventWidget-v1
VERSION:2.0
METHOD:PUBLISH
BEGIN:VTIMEZONE
TZID:America/Anguilla
X-LIC-LOCATION:America/Anguilla
BEGIN:STANDARD
TZOFFSETFROM:-0400
TZOFFSETTO:-0400
TZNAME:AST
DTSTART:19700101T000000
END:STANDARD
END:VTIMEZONE
BEGIN:VEVENT
UID:4439072:Event:194633
DTSTAMP:20260422T013956Z
SUMMARY:Tendencias en las Tecnologías de la 4ta Revolución Industria
 l en la salud
DESCRIPTION:\n\nFor more information visit https://rhinofablab.com/eve
 nts/tendencias-en-las-tecnologias-de-la-4ta-revolucion-industrial-en-
DTSTART;TZID=America/Anguilla:20190930T100000
DTEND;TZID=America/Anguilla:20190930T120000
CATEGORIES:conferencia
LOCATION:Auditorio Humanae Vitae Universidad Pontificia Bolivariana (C
 ampus Robledo)
WEBSITE:http://www.rhino3dcolombia.com
URL:http://www.rhino3dcolombia.com
CONTACT:574-4123015
ORGANIZER:RhinoFabStudio UPB
ATTACH;FMTTYPE="image/jpeg":https://storage.ning.com/topology/rest/1.0
 /file/get/3476087926?profile=original
ATTENDEE;ROLE=REQ-PARTICIPANT;PARTSTAT=ACCEPTED;RSVP=TRUE;CN="Andres F
 ranco":https://rhinofablab.com/profile/AndresFelipeFrancoMoreno
END:VEVENT
END:VCALENDAR
