BEGIN:VCALENDAR
PRODID:NingEventWidget-v1
VERSION:2.0
METHOD:PUBLISH
BEGIN:VTIMEZONE
TZID:America/Anguilla
X-LIC-LOCATION:America/Anguilla
BEGIN:STANDARD
TZOFFSETFROM:-0400
TZOFFSETTO:-0400
TZNAME:AST
DTSTART:19700101T000000
END:STANDARD
END:VTIMEZONE
BEGIN:VEVENT
UID:4439072:Event:168211
DTSTAMP:20260421T021157Z
SUMMARY:Teacher Training
DESCRIPTION:Introductory training of RhinoCeros 5.0\n oriented to r
 everse engineering of organic pieces\nscanning previously.\nLimited a
 vailability\n\nFor more information visit https://rhinofablab.com/even
 ts/teacher-training
DTSTART;TZID=America/Anguilla:20151215T090000
DTEND;TZID=America/Anguilla:20151215T180000
CATEGORIES:training
LOCATION:Unidad Profesional Adolfo Lopez Mateos, Zacatenco
WEBSITE:https://www.google.com.mx/maps/@19.4995765,-99.131251,16z
URL:https://www.google.com.mx/maps/@19.4995765,-99.131251,16z
CONTACT:55-5754-9398
ORGANIZER:ADRIAN JUAREZ SANCHEZ
ATTACH;FMTTYPE="image/jpeg":http://storage.ning.com/topology/rest/1.0/
 file/get/2048542602?profile=original
ATTENDEE;ROLE=REQ-PARTICIPANT;PARTSTAT=ACCEPTED;RSVP=TRUE;CN="Lucia N.
  Miguel":https://rhinofablab.com/profile/LuciaNasser
END:VEVENT
END:VCALENDAR
