BEGIN:VCALENDAR
PRODID:NingEventWidget-v1
VERSION:2.0
METHOD:PUBLISH
BEGIN:VTIMEZONE
TZID:America/Anguilla
X-LIC-LOCATION:America/Anguilla
BEGIN:STANDARD
TZOFFSETFROM:-0400
TZOFFSETTO:-0400
TZNAME:AST
DTSTART:19700101T000000
END:STANDARD
END:VTIMEZONE
BEGIN:VEVENT
UID:4439072:Event:170034
DTSTAMP:20260421T003747Z
SUMMARY:Taller de Arquitectura Generativa SC
DESCRIPTION:Generative Architecture is our flagship workshop, through 
 which we introduce participants into the concepts and tools of generat
 ive design, using the duo Rhinoceros + Grashopper, what will allow the
 m to rationalize construction systems for complex shapes and surfaces.
 \n\nFor more information visit https://rhinofablab.com/events/taller-d
 e-arquitectura-generativa-sc
DTSTART;TZID=America/Anguilla:20160116T000000
DTEND;TZID=America/Anguilla:20160117T235900
CATEGORIES:workshop
LOCATION:San Cristóbal, Venezuela.
WEBSITE:
URL:
CONTACT:+58 412 7351381
ORGANIZER;CN="Carlos Castro":https://rhinofablab.com/profile/CarlosCas
 tro
ATTACH;FMTTYPE="image/jpeg":http://storage.ning.com/topology/rest/1.0/
 file/get/2048548462?profile=original
ATTENDEE;ROLE=REQ-PARTICIPANT;PARTSTAT=ACCEPTED;RSVP=TRUE;CN="andres.c
 arter@me.com":https://rhinofablab.com/profile/andrescartermecom
ATTENDEE;ROLE=REQ-PARTICIPANT;PARTSTAT=ACCEPTED;RSVP=TRUE;CN="Carlos C
 astro":https://rhinofablab.com/profile/CarlosCastro
END:VEVENT
END:VCALENDAR
