BEGIN:VCALENDAR
PRODID:NingEventWidget-v1
VERSION:2.0
METHOD:PUBLISH
BEGIN:VTIMEZONE
TZID:America/Anguilla
X-LIC-LOCATION:America/Anguilla
BEGIN:STANDARD
TZOFFSETFROM:-0400
TZOFFSETTO:-0400
TZNAME:AST
DTSTART:19700101T000000
END:STANDARD
END:VTIMEZONE
BEGIN:VEVENT
UID:4439072:Event:344938
DTSTAMP:20260421T195648Z
SUMMARY:Taller Cellular Architecture: Hacia un BIM Evolutivo
DESCRIPTION:\n\nFor more information visit https://rhinofablab.com/eve
 nts/taller-cellular-architecture-hacia-un-bim-evolutivo
DTSTART;TZID=America/Anguilla:20221004T000000
DTEND;TZID=America/Anguilla:20221007T235900
CATEGORIES:workshop
LOCATION:RhinoFabStudio UPB
WEBSITE:https://aplicacionesincontacto.com/registronuevo/#/formview/63
 0d3e118f324aa207a058fe
URL:https://aplicacionesincontacto.com/registronuevo/#/formview/630d3e
 118f324aa207a058fe
CONTACT:3008114452
ORGANIZER:RhinoFabStudio UPB
ATTACH;FMTTYPE="image/jpeg":https://storage.ning.com/topology/rest/1.0
 /file/get/10831715498?profile=original
ATTENDEE;ROLE=REQ-PARTICIPANT;PARTSTAT=ACCEPTED;RSVP=TRUE;CN="Andres F
 ranco":https://rhinofablab.com/profile/AndresFelipeFrancoMoreno
END:VEVENT
END:VCALENDAR
