BEGIN:VCALENDAR
PRODID:NingEventWidget-v1
VERSION:2.0
METHOD:PUBLISH
BEGIN:VTIMEZONE
TZID:America/Anguilla
X-LIC-LOCATION:America/Anguilla
BEGIN:STANDARD
TZOFFSETFROM:-0400
TZOFFSETTO:-0400
TZNAME:AST
DTSTART:19700101T000000
END:STANDARD
END:VTIMEZONE
BEGIN:VEVENT
UID:4439072:Event:141057
DTSTAMP:20260420T220408Z
SUMMARY:Rhino 5, Level 101 at McNeel Miami
DESCRIPTION:Training\nLevel I - NURBS Modeling at McNeel Miami\n5/28/2
 014 - 5/30/2014 None\nMiami, Florida US$695\nCourse Description: In th
 is class you'll learn to create and edit accurate free-form 3-D NURBS 
 models. This fast-moving class covers most of Rhino's functionality, i
 ncluding the most advanced surfacing commands. Details...\nLocation: M
 cNeel Miami 1538 NW 89th Court Miami, FL 33172 United States\nTo Regis
 ter: e-mail: Jackie Nasser phone: 305 513 4445\n\n\nFor more informa
 tion visit https://rhinofablab.com/events/rhino
DTSTART;TZID=America/Anguilla:20140528T000000
DTEND;TZID=America/Anguilla:20140530T235900
CATEGORIES:rhino, 101
LOCATION:McNeel Miami's RhinoFabStudio On Site
WEBSITE:http://www.RhinoFabStudio.com
URL:http://www.RhinoFabStudio.com
CONTACT:3055134445 Jackie Nasser jackie@mcneel.com
ORGANIZER:Jackie Nasser at RhinoFabStudio, jackie@mcneel.com
ATTACH;FMTTYPE="image/jpeg":http://storage.ning.com/topology/rest/1.0/
 file/get/2048438106?profile=original
ATTENDEE;ROLE=REQ-PARTICIPANT;PARTSTAT=ACCEPTED;RSVP=TRUE;CN="Rhino Fa
 b Studio":https://rhinofablab.com/profile/RhinoFabStudio
ATTENDEE;ROLE=REQ-PARTICIPANT;PARTSTAT=ACCEPTED;RSVP=TRUE;CN=xaviersal
 daña:https://rhinofablab.com/profile/xaviersaldana
END:VEVENT
END:VCALENDAR
