BEGIN:VCALENDAR
PRODID:NingEventWidget-v1
VERSION:2.0
METHOD:PUBLISH
BEGIN:VTIMEZONE
TZID:America/Anguilla
X-LIC-LOCATION:America/Anguilla
BEGIN:STANDARD
TZOFFSETFROM:-0400
TZOFFSETTO:-0400
TZNAME:AST
DTSTART:19700101T000000
END:STANDARD
END:VTIMEZONE
BEGIN:VEVENT
UID:4439072:Event:274532
DTSTAMP:20260421T221710Z
SUMMARY:Nuevas Tecnologías al servicio de la Medicina
DESCRIPTION:\n\nFor more information visit https://rhinofablab.com/eve
 nts/nuevas-tecnologias-al-servicio-de-la-medicina
DTSTART;TZID=America/Anguilla:20210318T100000
DTEND;TZID=America/Anguilla:20210318T104500
CATEGORIES:webinar
LOCATION:Google Meet
WEBSITE:https://forms.gle/Wu4Zx8CNKXVD2iWR8
URL:https://forms.gle/Wu4Zx8CNKXVD2iWR8
CONTACT:3008114452
ORGANIZER:RHINO3D COLOMBIA RHINOFABSTUDIO UPB
ATTACH;FMTTYPE="image/jpeg":
ATTENDEE;ROLE=REQ-PARTICIPANT;PARTSTAT=ACCEPTED;RSVP=TRUE;CN="Daniel S
 jöholm":https://rhinofablab.com/profile/DanielSjoeholm
ATTENDEE;ROLE=REQ-PARTICIPANT;PARTSTAT=ACCEPTED;RSVP=TRUE;CN="cesar au
 gusto devia c":https://rhinofablab.com/profile/cesaraugustodeviac
ATTENDEE;ROLE=REQ-PARTICIPANT;PARTSTAT=ACCEPTED;RSVP=TRUE;CN="Carlos A
 lberto Costa":https://rhinofablab.com/profile/CarlosAlbertoCosta
ATTENDEE;ROLE=REQ-PARTICIPANT;PARTSTAT=ACCEPTED;RSVP=TRUE;CN="Rudolf B
 altera":https://rhinofablab.com/profile/RudolfBaltera
ATTENDEE;ROLE=REQ-PARTICIPANT;PARTSTAT=ACCEPTED;RSVP=TRUE;CN="Andres F
 ranco":https://rhinofablab.com/profile/AndresFelipeFrancoMoreno
ATTENDEE;ROLE=REQ-PARTICIPANT;PARTSTAT=TENTATIVE;RSVP=TRUE;CN="Juan Ma
 nuel Jaramillo Londoño":https://rhinofablab.com/profile/JuanManuelJar
 amilloLondono
ATTENDEE;ROLE=REQ-PARTICIPANT;PARTSTAT=TENTATIVE;RSVP=TRUE;CN="Filipe 
 Pagaimo":https://rhinofablab.com/profile/FilipePagaimo
ATTENDEE;ROLE=REQ-PARTICIPANT;PARTSTAT=TENTATIVE;RSVP=TRUE;CN="feltus 
 preston wyatt":https://rhinofablab.com/profile/feltusprestonwyatt
END:VEVENT
END:VCALENDAR
