BEGIN:VCALENDAR
PRODID:NingEventWidget-v1
VERSION:2.0
METHOD:PUBLISH
BEGIN:VTIMEZONE
TZID:America/Anguilla
X-LIC-LOCATION:America/Anguilla
BEGIN:STANDARD
TZOFFSETFROM:-0400
TZOFFSETTO:-0400
TZNAME:AST
DTSTART:19700101T000000
END:STANDARD
END:VTIMEZONE
BEGIN:VEVENT
UID:4439072:Event:28713
DTSTAMP:20260419T105633Z
SUMMARY:Introducción a la Fabricación Digital con Rhinoceros y Rolan
 d DG
DESCRIPTION:Introducción a la Fabricación Digital con Rhinoceros11 d
 e mayo 2011, 9:00 - 14:00hCerdanyola del Vallès, BarcelonaRoland DG I
 beria celebra el próximo miércoles 11 de mayo en sus instalaciones u
 n seminario gratuito de Introducción a la Fabricación Digital, en el
  que se tratará el diseño y la fabricación de prototipos con Rhinoc
 eros y las unidades de fresado 3D de Roland.Programa:- Diseño de piez
 as con Rhinoceros- Preparación de mecanizados con SRP Player- Mecaniz
 ado con MDX-40ALugar:Roland DG IberiaParc Tecnològic del VallèsC/Cer
 amistes, 6Cerdanyola del VallèsInscripción: Puede registrarse gratui
 tamente  a través del formulario de contacto. Plazas limitadas.\n\nF
 or more information visit https://rhinofablab.com/events/introduccion-
 a-la-fabricacion
DTSTART;TZID=America/Anguilla:20110511T090000
DTEND;TZID=America/Anguilla:20110511T140000
CATEGORIES:seminario
LOCATION:Roland DG Iberia
WEBSITE:http://www.rolanddgiberia.com
URL:http://www.rolanddgiberia.com
CONTACT:+34 91 591 84 00
ORGANIZER:Roland DG Iberia
ATTACH;FMTTYPE="image/jpeg":http://storage.ning.com/topology/rest/1.0/
 file/get/2048252983?profile=original
ATTENDEE;ROLE=REQ-PARTICIPANT;PARTSTAT=ACCEPTED;RSVP=TRUE;CN=Marta:htt
 ps://rhinofablab.com/profile/Marta
END:VEVENT
END:VCALENDAR
