BEGIN:VCALENDAR
PRODID:NingEventWidget-v1
VERSION:2.0
METHOD:PUBLISH
BEGIN:VTIMEZONE
TZID:America/Anguilla
X-LIC-LOCATION:America/Anguilla
BEGIN:STANDARD
TZOFFSETFROM:-0400
TZOFFSETTO:-0400
TZNAME:AST
DTSTART:19700101T000000
END:STANDARD
END:VTIMEZONE
BEGIN:VEVENT
UID:4439072:Event:30408
DTSTAMP:20260419T090734Z
SUMMARY:Impresión 3D para Arquitectura con Rhino/VisualARQ y HP Desig
 njet 3D
DESCRIPTION:Impresión 3D para Arquitectura con Rhino/VisualARQ y HP D
 esignjet 3DBarcelona - 17 de Mayo de 2011 (10-14h)Madrid - 19 de Mayo 
 de 2011 (10-14h)En este seminario gratuito se mostrarán técnicas ava
 nzadas de modelado de superficies, sólidos y elementos arquitectónic
 os con Rhinoceros y VisualARQ, y la posterior impresión 3D del modelo
  con HP Designjet 3D.Programa:\n\nCafé de bienvenida\nIntroducción a
 l Diseño 3D Arquitectónico con Rhinoceros y VisualARQ\nTécnicas ava
 nzadas de creación, edición y transformación de superficies y sóli
 dos\nAnálisis de geometrías complejas\nPreparación del modelo 3D pa
 ra su impresión en 3D (generación de un archivo STL cerrado y hermé
 tico, comprobación de posibles errores y reparación de geometría co
 rrupta si la hubiera)\nEscalado de maquetas y creación de partes para
  ensamblar, para poder imprimir modelos más grandes\nImpresión 3D co
 n HP Designjet 3D\nHP \"open house\"\n\nInfo completa e inscripción..
 .\n\nFor more information visit https://rhinofablab.com/events/impresi
 on-3d-para-arquitectura
DTSTART;TZID=America/Anguilla:20110517T100000
DTEND;TZID=America/Anguilla:20110519T140000
CATEGORIES:seminario
LOCATION:HP / COAM
WEBSITE:http://www.eu.rhino3d.com/e-news/rhino_hp0511.htm
URL:http://www.eu.rhino3d.com/e-news/rhino_hp0511.htm
CONTACT:
ORGANIZER;CN="Carlos Pérez":https://rhinofablab.com/profile/CarlosPer
 ez
ATTACH;FMTTYPE="image/jpeg":http://storage.ning.com/topology/rest/1.0/
 file/get/1802224173?profile=original
ATTENDEE;ROLE=REQ-PARTICIPANT;PARTSTAT=ACCEPTED;RSVP=TRUE;CN="Carlos P
 érez":https://rhinofablab.com/profile/CarlosPerez
END:VEVENT
END:VCALENDAR
