BEGIN:VCALENDAR
PRODID:NingEventWidget-v1
VERSION:2.0
METHOD:PUBLISH
BEGIN:VTIMEZONE
TZID:America/Anguilla
X-LIC-LOCATION:America/Anguilla
BEGIN:STANDARD
TZOFFSETFROM:-0400
TZOFFSETTO:-0400
TZNAME:AST
DTSTART:19700101T000000
END:STANDARD
END:VTIMEZONE
BEGIN:VEVENT
UID:4439072:Event:82476
DTSTAMP:20260419T200755Z
SUMMARY:Grasshopper de PreVerano
DESCRIPTION:Este es el tercer taller nuestra serie para aprender Rhino
 , en el cual se aprende el modelado paramétrico utilizando Grasshoppe
 r.\nEl taller enseña los principios de modelado básico y orgánico e
 n Rhinoceros. Parametrización, panelización y análisis en Grasshopp
 er, así como el proceso de manufactura digital para maquinaria de cor
 te Láser y CNC.\nUN solo pago anticipado $4,000.00\nPagos diferidos $
 4,500.00*\n*reserva tu lugar con el 50%\n Martes y Jueves de 7 a 10 P
 M\nDURACION: 30 HORAS\nSESIONES: 10 DE 3 HORAS\no info@dimensiontaller
 digital.com\ninformes al 55 (50 16 0634) con Mayri Gallegos (o al cel.
  55 28 85 24 73)\n\n\nFor more information visit https://rhinofablab.c
 om/events/grasshopper-de-preverano
DTSTART;TZID=America/Anguilla:20120515T190000
DTEND;TZID=America/Anguilla:20120614T220000
CATEGORIES:taller, presencial
LOCATION:Dimensión N
WEBSITE:http://www.dimensiontallerdigital.com/apps/webstore/products/s
 how/2610302
URL:http://www.dimensiontallerdigital.com/apps/webstore/products/show/
 2610302
CONTACT:5550160563
ORGANIZER;CN="Javier M Gaxiola":https://rhinofablab.com/profile/Javier
 MGaxiola
ATTACH;FMTTYPE="image/jpeg":http://storage.ning.com/topology/rest/1.0/
 file/get/2048288226?profile=original
ATTENDEE;ROLE=REQ-PARTICIPANT;PARTSTAT=ACCEPTED;RSVP=TRUE;CN=kzsel:htt
 ps://rhinofablab.com/profile/kzsel
ATTENDEE;ROLE=REQ-PARTICIPANT;PARTSTAT=ACCEPTED;RSVP=TRUE;CN="Javier M
  Gaxiola":https://rhinofablab.com/profile/JavierMGaxiola
END:VEVENT
END:VCALENDAR
