BEGIN:VCALENDAR
PRODID:NingEventWidget-v1
VERSION:2.0
METHOD:PUBLISH
BEGIN:VTIMEZONE
TZID:America/Anguilla
X-LIC-LOCATION:America/Anguilla
BEGIN:STANDARD
TZOFFSETFROM:-0400
TZOFFSETTO:-0400
TZNAME:AST
DTSTART:19700101T000000
END:STANDARD
END:VTIMEZONE
BEGIN:VEVENT
UID:4439072:Event:12159
DTSTAMP:20260421T063701Z
SUMMARY:FABCRAFT WORKSHOPS + EXHIBITION
DESCRIPTION:The FABCRAFT exhibition & workshops are organized by Sant
 iago R. Perez of srpLAB. The events will coincide with the opening of 
 the new Advanced DFABLAB facility at the University of Arkansas, Fay J
 ones School of Architecture. The new lab, directed by Perez, will make
  use of a 5-Axis mill and CNC Plasma Cutter.\nThe STEELCRAFT workshop,
  FEB 17-20, will feature collaborative work by David Celento and S. Pe
 rez, utilizing CNC Plasma Cutting.\nThe PARAMETRIC CRAFT workshop, FEB
  26-28, will feature FORM FINDING using GH / KANGAROO, presented by Ro
 nnie Parsons & Gil Akos of STUDIOMODE.\nThe workshops will be followed
  by an exhibition of work in the Bentonville, Arkansas SUGAR GALLERY, 
 opening March 3.\n \n \n\nFor more information visit https://rhinofa
 blab.com/events/fabcraft-workshops-exhibition
DTSTART;TZID=America/Anguilla:20110217T000000
DTEND;TZID=America/Anguilla:20110220T235900
CATEGORIES:workshops, "+", exhibit
LOCATION:Fay Jones School of Architecture
WEBSITE:http://maps.google.com/maps/ms?ie=UTF&msa=0&msid= 218127726848
 743650598.00049b94fcb3f59958a29
URL:http://maps.google.com/maps/ms?ie=UTF&msa=0&msid= 2181277268487436
 50598.00049b94fcb3f59958a29
CONTACT:479-575-5019
ORGANIZER;CN="Santiago R. Perez":https://rhinofablab.com/profile/Santi
 agoRPerez
ATTACH;FMTTYPE="image/jpeg":http://storage.ning.com/topology/rest/1.0/
 file/get/2048251396?profile=original
ATTENDEE;ROLE=REQ-PARTICIPANT;PARTSTAT=ACCEPTED;RSVP=TRUE;CN="Santiago
  R. Perez":https://rhinofablab.com/profile/SantiagoRPerez
END:VEVENT
END:VCALENDAR
