BEGIN:VCALENDAR
PRODID:NingEventWidget-v1
VERSION:2.0
METHOD:PUBLISH
BEGIN:VTIMEZONE
TZID:America/Anguilla
X-LIC-LOCATION:America/Anguilla
BEGIN:STANDARD
TZOFFSETFROM:-0400
TZOFFSETTO:-0400
TZNAME:AST
DTSTART:19700101T000000
END:STANDARD
END:VTIMEZONE
BEGIN:VEVENT
UID:4439072:Event:135377
DTSTAMP:20260423T054126Z
SUMMARY:Estratos Dinámicos - Rhino+Grasshopper - Chile
DESCRIPTION:\"Estratos Dinámicos\" se llevará a cabo 13 al 17 de Ene
 ro en la Universidad Santa María en Valparaiso, Chile.\nInstructores:
  CAAS Group -Carlos Castro y Verónica Arcos.\nEl workshop se propone 
 como un espacio experimental enfocado a la generación y fabricación 
 digital de prototipos abstractos decomplejidad formal a través de met
 odologías sistémicas. Utilizando la libertad que los procesos de dis
 eño paramétrico y CAD_CAM permiten.Se utilizará Rhino3d y Grasshopp
 er.\nContacto: caasgroup@usm.cl - facebook: caas groupValor: $145.000
 \n\nFor more information visit https://rhinofablab.com/events/estratos
 -dinamicos-rhino-grasshopper-chile
DTSTART;TZID=America/Anguilla:20140113T000000
DTEND;TZID=America/Anguilla:20140117T235900
CATEGORIES:workshop
LOCATION:Universidad Tecnica Federico Santa Maria
WEBSITE:http://veronicaarcos.cl/
URL:http://veronicaarcos.cl/
CONTACT:032-2654106
ORGANIZER:CAAS Group
ATTACH;FMTTYPE="image/jpeg":http://storage.ning.com/topology/rest/1.0/
 file/get/2048412284?profile=original
ATTENDEE;ROLE=REQ-PARTICIPANT;PARTSTAT=ACCEPTED;RSVP=TRUE;CN="Jacqueli
 ne Nasser":https://rhinofablab.com/profile/JacquelineNasser
ATTENDEE;ROLE=REQ-PARTICIPANT;PARTSTAT=TENTATIVE;RSVP=TRUE;CN="Rhino F
 ab Studio":https://rhinofablab.com/profile/RhinoFabStudio
END:VEVENT
END:VCALENDAR
