BEGIN:VCALENDAR
PRODID:NingEventWidget-v1
VERSION:2.0
METHOD:PUBLISH
BEGIN:VTIMEZONE
TZID:America/Anguilla
X-LIC-LOCATION:America/Anguilla
BEGIN:STANDARD
TZOFFSETFROM:-0400
TZOFFSETTO:-0400
TZNAME:AST
DTSTART:19700101T000000
END:STANDARD
END:VTIMEZONE
BEGIN:VEVENT
UID:4439072:Event:76462
DTSTAMP:20260421T202318Z
SUMMARY:DIGITAL SYSTEMS: THEORY + PRACTICE SYMPOSIA
DESCRIPTION:Keynote: 29 March, 2012 @ 7pm Greg Lynn  Panelists: 30 Mar
 ch, 2012 @ 10am - 5pm Elena Manferdini David Ruy Chris Lasch  Organize
 d by:  Wendy W Fok   Premise:  The Panelists will explore the theoreti
 cal approaches to Digital fabrication and tooling systems, as well as 
 the various implications and practical applications of digital fabrica
 tions and their impact on the practice and pedagogy of architecture.  
  Co-Sponsored by:  Archinect\n\nAll lectures will be held at:  the Ger
 ald D Hines College of Architecture | University of Houston.\n\n\nFor 
 more information visit https://rhinofablab.com/events/digital-systems-
 theory-practice-symposia
DTSTART;TZID=America/Anguilla:20120329T190000
DTEND;TZID=America/Anguilla:20120330T100000
CATEGORIES:digital, fabriaction
LOCATION:University of Houston
WEBSITE:http://www.arch.uh.edu/
URL:http://www.arch.uh.edu/
CONTACT:
ORGANIZER:Gerald D Hines College of Architecture and Wendy W Fok
ATTACH;FMTTYPE="image/jpeg":http://storage.ning.com/topology/rest/1.0/
 file/get/2048277267?profile=original
ATTENDEE;ROLE=REQ-PARTICIPANT;PARTSTAT=ACCEPTED;RSVP=TRUE;CN=RhinoFabL
 ab:https://rhinofablab.com/profile/RhinoFabLab
END:VEVENT
END:VCALENDAR
