BEGIN:VCALENDAR
PRODID:NingEventWidget-v1
VERSION:2.0
METHOD:PUBLISH
BEGIN:VTIMEZONE
TZID:America/Anguilla
X-LIC-LOCATION:America/Anguilla
BEGIN:STANDARD
TZOFFSETFROM:-0400
TZOFFSETTO:-0400
TZNAME:AST
DTSTART:19700101T000000
END:STANDARD
END:VTIMEZONE
BEGIN:VEVENT
UID:4439072:Event:170401
DTSTAMP:20260420T230418Z
SUMMARY:Colombiatex de las Americas 2016
DESCRIPTION:Rhino3D Colombia S.A.S estará presente gracias a la invit
 ación de nuestro aliado tecnológico Almacenes Yamata ala feria comer
 cial COLOMBIATEX DE LAS AMERICAS 2016\n\nFor more information visit ht
 tps://rhinofablab.com/events/colombiatex-de-las-americas-2016
DTSTART;TZID=America/Anguilla:20160126T000000
DTEND;TZID=America/Anguilla:20160128T235900
CATEGORIES:feria
LOCATION:Plaza Mayor
WEBSITE:http://colombiatex.inexmoda.org.co/
URL:http://colombiatex.inexmoda.org.co/
CONTACT:
ORGANIZER:
ATTACH;FMTTYPE="image/jpeg":http://storage.ning.com/topology/rest/1.0/
 file/get/2048548502?profile=original
ATTENDEE;ROLE=REQ-PARTICIPANT;PARTSTAT=ACCEPTED;RSVP=TRUE;CN="andres.c
 arter@me.com":https://rhinofablab.com/profile/andrescartermecom
ATTENDEE;ROLE=REQ-PARTICIPANT;PARTSTAT=ACCEPTED;RSVP=TRUE;CN="Andres G
 onzalez":https://rhinofablab.com/profile/AndresGonzalez
ATTENDEE;ROLE=REQ-PARTICIPANT;PARTSTAT=ACCEPTED;RSVP=TRUE;CN="Andres F
 ranco":https://rhinofablab.com/profile/AndresFelipeFrancoMoreno
END:VEVENT
END:VCALENDAR
