BEGIN:VCALENDAR
PRODID:NingEventWidget-v1
VERSION:2.0
METHOD:PUBLISH
BEGIN:VTIMEZONE
TZID:America/Anguilla
X-LIC-LOCATION:America/Anguilla
BEGIN:STANDARD
TZOFFSETFROM:-0400
TZOFFSETTO:-0400
TZNAME:AST
DTSTART:19700101T000000
END:STANDARD
END:VTIMEZONE
BEGIN:VEVENT
UID:4439072:Event:70211
DTSTAMP:20260419T212311Z
SUMMARY:Ciclo de Workshops “ADN Methodology” / México 2011 - 2012
DESCRIPTION:Programa académico internacional apoyado por diversas Uni
 versidades Mexicanas y Europeas sobre la unión del diseño paramétri
 co (diseño generativo), la sustentabilidad y la fabricación digital,
  usando las nuevas tecnologías de la información en la arquitectura 
 para la gestión del conocimiento de sistemas que desarrollen estructu
 ras sustentables, desde los procesos de diseño generativos o algorít
 micos. Donde se contempla la P.O.O. (programación orientada a objetos
 ) como nuevo lenguaje de expresión para el arquitecto-diseñador en e
 l siglo XXI. \nLos talleres están pensados para sigan un hilo conduct
 ual en el que al mismo tiempo que se enseña se investiga y experiment
 a. Por primera vez se contará con diversos miembros de SEED como doce
 ntes de forma presencial y por video conferencia, logrando de esta for
 ma acercar a los especialistas que se encuentran en Europa a los asist
 entes de los talleres sin encarecer los costos.\n\n+info:\nhttp://www.
 studioseed.net/adn-methodology/ \nLOS TALLERES:\nFAB DIG I / ITESM –
  CEM / Estado de México / 20 hrs / 8 – 11 al de diciembre 2011 (En 
 este taller no se aplican descuentos ni becas)\n\nPARAMETRIC GREEN HOU
 SING / Colegio de Arquitectos del estado de Jalisco (Por confirmar Sed
 e) / Guadalajara / 20h + 5h proyecto / 30 enero 2012 al 4 de diciembre
  2012\n\nFAB DIG II / ITESM – CEM / Estado de México / 30h + 5h pro
 yecto / 8 a 12 febrero 2012\n\nTERCERA REVOLUCIÓN INDUSTRIAL: TIC`s +
  SOSTENIBILIDAD. Procesos y paradigmas emergentes / Querétaro / 20 hr
 s / 15 al 18 de febrero 2012\n\nINTRODUCCIÓN AL DISEÑO GENERATIVO / 
 UAM-azc / DF / 8hrs / 13, 14 de enero (Costo representativo $650, máx
 imo 40 personas, mínimo 15 personas)\n\nINTRODUCCIÓN A: SCRIPTING CO
 N GRASSHOPPER ( Python) Y PLUGINS / Estudio SEED México / Estado de M
 éxico / 30 hrs / 23, 24, 25 febrero y 1,2, 3 de marzo 2012\n\nBECAS S
 EED & KRFR\n\nSEED ofrece dos becas para el ciclo de talleres (una del
 100% y otra del 50%) (Excepto taller ITESM Edo Mex diciembre 2011) a e
 studiantes y/o profesionales, solo necesitas rellenar el formulario en
  el enlaze abajo, antes del 16 de enero 2012, el 18 enero a las 12hrs 
 (hora México), el sorteo se hará a traves de una definición de Gras
 shopper todo el proceso será grabado, en la página oficial de este c
 iclo de talleres se pondrá el nombre de los ganadores, y un vídeo mo
 strando el procedimiento con el que se ha hecho el sorteo, para mostra
 r la transparencia en el sorteo.\n\nhttp://www.studioseed.net/sorteo-b
 eca/\n\nFor more information visit https://rhinofablab.com/events/cicl
 o-de-workshops-adn-methodology-m-xico-2011-2012
DTSTART;TZID=America/Anguilla:20111208T000000
DTEND;TZID=America/Anguilla:20120303T235900
CATEGORIES:ciclo, de, workshops, diseño, generativo
LOCATION:Estudio SEED México
WEBSITE:http://www.studioseed.net/adn-methodology/
URL:http://www.studioseed.net/adn-methodology/
CONTACT:
ORGANIZER;CN="Rodrigo KRFR":https://rhinofablab.com/profile/RodrigoKRF
 R
ATTACH;FMTTYPE="image/jpeg":
ATTENDEE;ROLE=REQ-PARTICIPANT;PARTSTAT=ACCEPTED;RSVP=TRUE;CN="Rodrigo 
 KRFR":https://rhinofablab.com/profile/RodrigoKRFR
END:VEVENT
END:VCALENDAR
