BEGIN:VCALENDAR
PRODID:NingEventWidget-v1
VERSION:2.0
METHOD:PUBLISH
BEGIN:VTIMEZONE
TZID:America/Anguilla
X-LIC-LOCATION:America/Anguilla
BEGIN:STANDARD
TZOFFSETFROM:-0400
TZOFFSETTO:-0400
TZNAME:AST
DTSTART:19700101T000000
END:STANDARD
END:VTIMEZONE
BEGIN:VEVENT
UID:4439072:Event:426618
DTSTAMP:20260421T200406Z
SUMMARY:Calzado Digital para la industria 4.0
DESCRIPTION:\n\nFor more information visit https://rhinofablab.com/eve
 nts/calzado-digital-para-la-industria-4-0
DTSTART;TZID=America/Anguilla:20230215T180000
DTEND;TZID=America/Anguilla:20230215T200000
CATEGORIES:conversatorio
LOCATION:link lab escuela de arquitectura y diseño UPB
WEBSITE:
URL:
CONTACT:3008114452
ORGANIZER:Arquidiseño UPB
ATTACH;FMTTYPE="image/jpeg":https://storage.ning.com/topology/rest/1.0
 /file/get/10960505485?profile=original
ATTENDEE;ROLE=REQ-PARTICIPANT;PARTSTAT=ACCEPTED;RSVP=TRUE;CN="Dulce A.
  Chavez":https://rhinofablab.com/profile/DulceAChavez
ATTENDEE;ROLE=REQ-PARTICIPANT;PARTSTAT=ACCEPTED;RSVP=TRUE;CN="Gio ABV"
 :https://rhinofablab.com/profile/GiovanniAbarcaVargas
ATTENDEE;ROLE=REQ-PARTICIPANT;PARTSTAT=ACCEPTED;RSVP=TRUE;CN="Ricardo 
 Torres Aragón":https://rhinofablab.com/profile/RicardoTorresAragon
ATTENDEE;ROLE=REQ-PARTICIPANT;PARTSTAT=ACCEPTED;RSVP=TRUE;CN="Javier M
  Gaxiola":https://rhinofablab.com/profile/JavierMGaxiola776
ATTENDEE;ROLE=REQ-PARTICIPANT;PARTSTAT=ACCEPTED;RSVP=TRUE;CN="Maximili
 ano Izzi":https://rhinofablab.com/profile/MaximilianoIzzi
ATTENDEE;ROLE=REQ-PARTICIPANT;PARTSTAT=ACCEPTED;RSVP=TRUE;CN="Andres F
 ranco":https://rhinofablab.com/profile/AndresFelipeFrancoMoreno
END:VEVENT
END:VCALENDAR
