BEGIN:VCALENDAR
PRODID:NingEventWidget-v1
VERSION:2.0
METHOD:PUBLISH
BEGIN:VTIMEZONE
TZID:America/Anguilla
X-LIC-LOCATION:America/Anguilla
BEGIN:STANDARD
TZOFFSETFROM:-0400
TZOFFSETTO:-0400
TZNAME:AST
DTSTART:19700101T000000
END:STANDARD
END:VTIMEZONE
BEGIN:VEVENT
UID:4439072:Event:196772
DTSTAMP:20260421T235746Z
SUMMARY:3D en medicina: visualizaciÃ³n e impresiÃ³n 3D a partir de imÃ
 ¡genes de radiologÃ­a
DESCRIPTION:\n\nFor more information visit https://rhinofablab.com/eve
 nts/3d-en-medicina-visualizaci-n-e-impresi-n-3d-a-partir-de-im-genes
DTSTART;TZID=America/Anguilla:20200218T103000
DTEND;TZID=America/Anguilla:20200218T113000
CATEGORIES:webinar
LOCATION:Sala de tele presencia Bloque 9 del Eco Campus UPB
WEBSITE:http://www.rhino3dcolombia.com
URL:http://www.rhino3dcolombia.com
CONTACT:574-4123015
ORGANIZER:RhinoFabStudio UPB
ATTACH;FMTTYPE="image/jpeg":https://storage.ning.com/topology/rest/1.0
 /file/get/3848923941?profile=original
ATTENDEE;ROLE=REQ-PARTICIPANT;PARTSTAT=ACCEPTED;RSVP=TRUE;CN="Noelia R
 G":https://rhinofablab.com/profile/NoeliaRG
ATTENDEE;ROLE=REQ-PARTICIPANT;PARTSTAT=ACCEPTED;RSVP=TRUE;CN="Affonso 
 Orciuoli":https://rhinofablab.com/profile/AffonsoOrciuoli
ATTENDEE;ROLE=REQ-PARTICIPANT;PARTSTAT=ACCEPTED;RSVP=TRUE;CN="Andres F
 ranco":https://rhinofablab.com/profile/AndresFelipeFrancoMoreno
ATTENDEE;ROLE=REQ-PARTICIPANT;PARTSTAT=TENTATIVE;RSVP=TRUE;CN="Filipe 
 Pagaimo":https://rhinofablab.com/profile/FilipePagaimo
END:VEVENT
END:VCALENDAR
